BEGIN:VCALENDAR
VERSION:2.0
PRODID:-//wp-events-plugin.com//7.2.3.1//EN
BEGIN:VEVENT
UID:10@elena.virtual-presence.net
DTSTART;TZID=Europe/Lisbon:20230923T213000
DTEND;TZID=Europe/Lisbon:20230923T230000
DTSTAMP:20230914T155945Z
URL:https://elena.virtual-presence.net/wp/events/saturday-23-september-202
 3-21h30-casa-das-artes-almada/
SUMMARY:Saturday 23 September 2023 - 21h30 CASA DAS ARTES - Almada
DESCRIPTION:Saturday 23 September 2023 - 21h30\nCASA DAS ARTES\nR. Cândido
  dos Reis 49 - Almada\nFREE ENTRANCE\n(Excerpts from the previous concert\
 , Casa das Artes Almada\, 15.07.2023\, Live.)\n\nAccess Map\n&nbsp\;\nIf y
 ou wish to support our free concerts you can help with an on-line donation
 .
ATTACH;FMTTYPE=image/jpeg:https://elena.virtual-presence.net/wp/wp-content
 /uploads/2023/08/Flyer-Lena-23-Setembro-CasaDasArtes.jpg
END:VEVENT
BEGIN:VTIMEZONE
TZID:Europe/Lisbon
X-LIC-LOCATION:Europe/Lisbon
BEGIN:DAYLIGHT
DTSTART:20230326T020000
TZOFFSETFROM:+0000
TZOFFSETTO:+0100
TZNAME:WEST
END:DAYLIGHT
END:VTIMEZONE
END:VCALENDAR