BEGIN:VCALENDAR
VERSION:2.0
PRODID:-//wp-events-plugin.com//7.2.3.1//EN
BEGIN:VEVENT
UID:17@elena.virtual-presence.net
DTSTART;TZID=Europe/Lisbon:20231223T200000
DTEND;TZID=Europe/Lisbon:20231223T220000
DTSTAMP:20231218T205551Z
URL:https://elena.virtual-presence.net/wp/events/sabado-23-de-dezembro-202
 3-20h00-cafe-jardim-ourem/
SUMMARY:Sabado 23 de Dezembro 2023 - 20h00 – Café Jardim - Ourém
DESCRIPTION:Sabado 23 de Dezembro 2023\n20h00 – Café Jardim - Ourém\nPr
 aça do Município 16\, Frente A\,\nLugares limitados\, reservas : \n910 6
 39 606\nGoogle maps: https://maps.app.goo.gl/uHwFfFmKYbubmRoy7\n\n&nbsp\;
ATTACH;FMTTYPE=image/jpeg:https://elena.virtual-presence.net/wp/wp-content
 /uploads/2023/12/Flyer-Lena-23-dezembro-2023-Cafe-Jardim-Ourem.jpg
END:VEVENT
BEGIN:VTIMEZONE
TZID:Europe/Lisbon
X-LIC-LOCATION:Europe/Lisbon
BEGIN:STANDARD
DTSTART:20231029T010000
TZOFFSETFROM:+0100
TZOFFSETTO:+0000
TZNAME:WET
END:STANDARD
END:VTIMEZONE
END:VCALENDAR