BEGIN:VCALENDAR
VERSION:2.0
PRODID:-//wp-events-plugin.com//7.2.3.1//EN
BEGIN:VEVENT
UID:16@elena.virtual-presence.net
DTSTART;TZID=Europe/Lisbon:20231118T180000
DTEND;TZID=Europe/Lisbon:20231118T200000
DTSTAMP:20231115T112726Z
URL:https://elena.virtual-presence.net/wp/events/sabado-18-de-novembro-202
 3-bistro-sandalo-almada/
SUMMARY:Sabado 18 de Novembro 2023 - Bistro Sândalo - Almada
DESCRIPTION:Sabado 18 de Novembro 2023\n18h00 – Bistro Sândalo \nR. Rain
 ha Santa Isabel 8\, \nAlmada\n\nAccess Map : https://maps.app.goo.gl/uSN4b
 ushxEDMa2yv6\nIf you wish to support my free performance\, you can make a 
 donation here.\n&nbsp\;
ATTACH;FMTTYPE=image/jpeg:https://elena.virtual-presence.net/wp/wp-content
 /uploads/2023/11/Flyer-Lena-18-Novembro-2023-Sandalo.jpg
END:VEVENT
BEGIN:VTIMEZONE
TZID:Europe/Lisbon
X-LIC-LOCATION:Europe/Lisbon
BEGIN:STANDARD
DTSTART:20231029T010000
TZOFFSETFROM:+0100
TZOFFSETTO:+0000
TZNAME:WET
END:STANDARD
END:VTIMEZONE
END:VCALENDAR