BEGIN:VCALENDAR
VERSION:2.0
PRODID:-//wp-events-plugin.com//7.2.3.1//EN
BEGIN:VEVENT
UID:23@elena.virtual-presence.net
DTSTART;TZID=Europe/Moscow:20251205T200000
DTEND;TZID=Europe/Moscow:20251205T230000
DTSTAMP:20251126T134122Z
URL:https://elena.virtual-presence.net/wp/events/frida-grand-cafe-saint-pe
 tersburg-russia-3/
SUMMARY:Frida Grand Cafe - Saint Petersburg (Russia)
DESCRIPTION:-- Elena Dia --\nFrida Grand Cafe ( ул. Чайковског
 о\, 57 ) - 5 декабря 2025 г. \, в 20.00\nджаз и босса
 нова\nНе забывайте бронировать столики:\n
 8-965-797-57-90\nКарта доступа : https://maps.app.goo.gl/NAtnq
 2PaARFdSRRf6\n
ATTACH;FMTTYPE=image/jpeg:https://elena.virtual-presence.net/wp/wp-content
 /uploads/2025/11/Flyer-Lena-5-Dec-2025-Frida-Grand-Cafe.jpg
END:VEVENT
BEGIN:VTIMEZONE
TZID:Europe/Moscow
X-LIC-LOCATION:Europe/Moscow
BEGIN:STANDARD
DTSTART:20241205T200000
TZOFFSETFROM:+0300
TZOFFSETTO:+0300
TZNAME:MSK
END:STANDARD
END:VTIMEZONE
END:VCALENDAR