BEGIN:VCALENDAR
VERSION:2.0
PRODID:-//wp-events-plugin.com//7.2.3.1//EN
BEGIN:VEVENT
UID:21@elena.virtual-presence.net
DTSTART;TZID=Europe/Moscow:20251115T200000
DTEND;TZID=Europe/Moscow:20251115T230000
DTSTAMP:20251028T135146Z
URL:https://elena.virtual-presence.net/wp/events/frida-grand-cafe-saint-pe
 tersburg-russia-2/
SUMMARY:Frida Grand Cafe - Saint Petersburg (Russia)
DESCRIPTION:-- Elena Dia --\nFrida Grand Cafe ( ул. Чайковског
 о\, 57 ) - 15 ноября 2025 г. \, в 20.00\nджаз и боссан
 ова\nНе забывайте бронировать столики:\n8-
 965-797-57-90\nКарта доступа : https://maps.app.goo.gl/NAtnq2P
 aARFdSRRf6\n
ATTACH;FMTTYPE=image/jpeg:https://elena.virtual-presence.net/wp/wp-content
 /uploads/2025/10/Flyer-Lena-2-15-Nov-2025-Frida-Grand-Cafe.jpg
END:VEVENT
BEGIN:VTIMEZONE
TZID:Europe/Moscow
X-LIC-LOCATION:Europe/Moscow
BEGIN:STANDARD
DTSTART:20241115T200000
TZOFFSETFROM:+0300
TZOFFSETTO:+0300
TZNAME:MSK
END:STANDARD
END:VTIMEZONE
END:VCALENDAR