BEGIN:VCALENDAR
VERSION:2.0
PRODID:-//wp-events-plugin.com//7.2.3.1//EN
BEGIN:VEVENT
UID:24@elena.virtual-presence.net
DTSTART;TZID=Asia/Yekaterinburg:20260108T220000
DTEND;TZID=Asia/Yekaterinburg:20260108T234500
DTSTAMP:20251121T110133Z
URL:https://elena.virtual-presence.net/wp/events/%d0%bf%d0%be%d1%80%d1%82%
 d1%83%d0%b3%d0%b0%d0%bb%d1%8c%d1%81%d0%ba%d0%be%d0%b5-%d1%80%d0%be%d0%b6%d
 0%b4%d0%b5%d1%81%d1%82%d0%b2%d0%be-elena-dia-%d0%bf%d0%be%d1%80%d1%82%d1%8
 3%d0%b3%d0%b0/
SUMMARY:Португальское Рождество — Elena Dia\, Ан
 тон Дерябин
DESCRIPTION:Miles Bar - Tyumen (Ru)\nул. Республики\, 42\, Тю
 мень\n+7 (932) 323-42-43\nПогрузимся в уютную и тё
 плую атмосферу самого семейного праздни
 ка Португалии! Вас ждёт уникальный музык
 альный вечер с очаровательной Elena Dia и ма
 стером импровизации Антоном Дерябиным.\n
 https://milesbar.ru/\n\nБилеты: https://tumen.qtickets.events/20004
 3-portugalskoe-rozhdestvo-elena-dia-portugaliya-anton-deryabin\n
ATTACH;FMTTYPE=image/jpeg:https://elena.virtual-presence.net/wp/wp-content
 /uploads/2025/11/Empty-Flyer-Lena-2025-resized.jpg
END:VEVENT
BEGIN:VTIMEZONE
TZID:Asia/Yekaterinburg
X-LIC-LOCATION:Asia/Yekaterinburg
BEGIN:STANDARD
DTSTART:20250108T220000
TZOFFSETFROM:+0500
TZOFFSETTO:+0500
TZNAME:+05
END:STANDARD
END:VTIMEZONE
END:VCALENDAR